BEGIN:VCALENDAR
VERSION:2.0
PRODID:-//Teatro a Molla - ECPv6.15.20//NONSGML v1.0//EN
CALSCALE:GREGORIAN
METHOD:PUBLISH
X-WR-CALNAME:Teatro a Molla
X-ORIGINAL-URL:https://www.teatroamolla.it
X-WR-CALDESC:Eventi per Teatro a Molla
REFRESH-INTERVAL;VALUE=DURATION:PT1H
X-Robots-Tag:noindex
X-PUBLISHED-TTL:PT1H
BEGIN:VTIMEZONE
TZID:UTC
BEGIN:STANDARD
TZOFFSETFROM:+0000
TZOFFSETTO:+0000
TZNAME:UTC
DTSTART:20150101T000000
END:STANDARD
END:VTIMEZONE
BEGIN:VEVENT
DTSTART;TZID=UTC:20161216T213000
DTEND;TZID=UTC:20161216T213000
DTSTAMP:20260423T001335
CREATED:20160808T161922Z
LAST-MODIFIED:20161214T184711Z
UID:6049-1481923800-1481923800@www.teatroamolla.it
SUMMARY:La lunga notte (Bologna)
DESCRIPTION:Prenota i bigliettiLa quinta edizione della maratona d’improvvisazione  targata Teatro a Molla riserverà molte sorprese. Ad esempio? La formula. 4 spettacoli consecutivi\, tra i più rappresentativi del costante lavoro di ricerca della compagnia. Non perderti la narrazione di Plagio\, la poesia di MicroscOpera\, la profondità di Così è\, la folle comicità de I Sabotatori\, tutto nella stessa serata. \nE se vuoi davvero fare scorta d’improvvisazione per l’inverno\, ti aspettiamo dal pomeriggio\, per le esibizioni di fine sessione degli studenti della nostra scuola. \nAlle 18.30 andranno sul palco gli allievi del corso base Impro 30. \nAlle 19.00 tocca agli intermedi di Impro 120. \nAlle 20.00 gli esperti del corso Format metteranno in scena lo spettacolo “L’appuntamento”.
URL:https://www.teatroamolla.it/event/la-lunga-notte-bologna/
LOCATION:Teatro Alemanni\, via Mazzini\, 65\, Bologna\, Italia
CATEGORIES:Eventi,Spettacoli
ATTACH;FMTTYPE=image/jpeg:https://www.teatroamolla.it/wp-content/uploads/2016/08/Banner_2016_LN-e1476114237770.jpg
ORGANIZER;CN="Teatro a Molla":MAILTO:info@teatroamolla.it
END:VEVENT
BEGIN:VEVENT
DTSTART;TZID=UTC:20161118T213000
DTEND;TZID=UTC:20161118T225000
DTSTAMP:20260423T001335
CREATED:20160808T172342Z
LAST-MODIFIED:20161117T231043Z
UID:6056-1479504600-1479509400@www.teatroamolla.it
SUMMARY:On air (Bologna)
DESCRIPTION:On air è l’ esplorazione di tutti gli universi che l’ascoltatore può creare ascoltando la radio. \nGli attori creeranno un flusso di spezzoni\, dialoghi\, musica\, scene\, ispirati dai dialoghi degli spettatori con un invisibile D.J.\nLo spettatore di On air viene trascinato in un turbinio di suggestioni diverse e nello stesso tempo ha ‘spazio’ per elaborare le sue personali emozioni e interpretazioni di ciò che sente e che vede.
URL:https://www.teatroamolla.it/event/on-air-bologna/
LOCATION:Teatro San Salvatore\, Via Volto Santo 1\, Bologna\, Italia
CATEGORIES:Eventi,On air,Spettacoli
ATTACH;FMTTYPE=image/jpeg:https://www.teatroamolla.it/wp-content/uploads/2016/08/Banner_2016_OA-e1476114270937.jpg
ORGANIZER;CN="Teatro a Molla":MAILTO:info@teatroamolla.it
END:VEVENT
END:VCALENDAR