BEGIN:VCALENDAR
VERSION:2.0
PRODID:-//Teatro a Molla - ECPv6.15.20//NONSGML v1.0//EN
CALSCALE:GREGORIAN
METHOD:PUBLISH
X-WR-CALNAME:Teatro a Molla
X-ORIGINAL-URL:https://www.teatroamolla.it
X-WR-CALDESC:Eventi per Teatro a Molla
REFRESH-INTERVAL;VALUE=DURATION:PT1H
X-Robots-Tag:noindex
X-PUBLISHED-TTL:PT1H
BEGIN:VTIMEZONE
TZID:UTC
BEGIN:STANDARD
TZOFFSETFROM:+0000
TZOFFSETTO:+0000
TZNAME:UTC
DTSTART:20170101T000000
END:STANDARD
END:VTIMEZONE
BEGIN:VEVENT
DTSTART;TZID=UTC:20181116T213000
DTEND;TZID=UTC:20181116T233000
DTSTAMP:20260421T154600
CREATED:20170908T115108Z
LAST-MODIFIED:20181116T103359Z
UID:12704-1542403800-1542411000@www.teatroamolla.it
SUMMARY:Set (Bologna)
DESCRIPTION:di Olli Rasini \ncon Antonio Vulpio\, Antonio Contartese\, Luca Gnerucci\, Daniele Mazzacurati \nSpecial guest: Claudia Gafà\nRegia luci: Paolo Facco\nMusiche dal vivo:Alessio Granato \nSpettacolo di teatro di improvvisazione in tre atti. \nGli attori coinvolti entreranno in scena bendati\, scenografie e costumi verranno svelati nell’istante stesso dell’inizio dello spettacolo\, ispirando così le loro storie. \nUn vero e proprio “SET” dal quale trarre ispirazione per creare teatro di improvvisazione. \nI costumi e i luoghi determineranno i personaggi\, i loro caratteri\, le loro relazioni e di conseguenza la trama\, intrecciata progressivamente nel corso della serata. \n— \nBIGLIETTI\nIntero: € 12\,00\nRidotto studenti e over 65: € 9\,00 \nINFO\nwww.teatroamolla.it\ninfo@teatroamolla.it\n(+39) 345 210 44 84\nPRENOTAZIONI CHIUSE DALLE 24.00 DEL 15 NOVEMBRE. I BIGLIETTI NON PRENOTATI SARANNO DISPONIBILI PRESSO LA CASSA DEL TEATRO A PARTIRE DALLE ORE 20.00 \n×Prenotazione biglietti\n\n\n  \n\n\n\n\n\n Il tuo nome (richiesto)\n \n \n Il tuo cognome (richiesto)\n \n \n Il tuo numero di telefono (richiesto)\n \n \n La tua email (richiesto)\n \n \n N° biglietti interi\n \n \n N° biglietti ridotti\n \n \n Motivazioni per la riduzione\n \n \nRiduzioni per over 65\, studenti\, Associati Teatro a Molla-APS\, Associati CambiScena\n \n N° biglietti omaggio\n \n \n Motivazioni per l'omaggio\n \n \nOmaggi invalidi (accompagnatore ridotto)\, bambini in età pre-scolare.\n \nCome hai saputo di noi? (richiesto)\n \n—Seleziona un'opzione—Sei nostro/a associato/aPassaparolaGoogleFacebookInstagramNewsletter\n \nHo compreso e accetto le condizioni sul trattamento dei miei dati sotto riportate.Teatro a Molla-APS tratterà i Tuoi dati personali nel rispetto del Regolamento UE 2016/679\, esclusivamente per la gestione della tua richiesta tramite il sito www.teatroamolla.it\, e in particolare per:- inviarti le informazioni inerenti l'evento/i per cui hai richiesto la prenotazione o l'iscrizione- stilare le liste di partecipanti all'evento/iI trattamenti saranno svolti e i dati conservati da incaricati autorizzati\, in forma cartacea e informatica.I dati non saranno comunicati a terzi né saranno diffusi.Al termine dell'evento\, i tuoi dati saranno conservati in forma informatica esclusivamente per scopo di archivio e in nessun altro modo utilizzati senza Tuo espresso consenso.Nella qualità di interessato\, Ti sono garantiti tutti i diritti specificati all’art. 15 GDPR\, tra cui il diritto all’accesso\, rettifica\, cancellazione\, limitazione e opposizione al trattamento dei dati\, di revocare il consenso (ove prestato) al trattamento (senza pregiudizio per la liceità del trattamento basata sul consenso acquisito prima della revoca)\, di proporre reclamo al Garante per la Protezione dei dati personali. L’esercizio dei diritti può essere esercitato mediante comunicazione scritta da inviare all'indirizzo e-mail info@teatroamolla.it o mediante lettera raccomandata a/r presso la sede dell’Associazione.Titolare del trattamento è Teatro a Molla-APS con sede a Bologna\, in via del Milliario 40. mail: info@teatroamolla.it\, tel: 345 2104484\n \n\n ×
URL:https://www.teatroamolla.it/event/set-bologna/
LOCATION:Teatro Orione\, Via Cimabue\, 14\, Bologna\, Bologna\, 40133\, Italia
CATEGORIES:Eventi,Set,Spettacoli
ATTACH;FMTTYPE=image/jpeg:https://www.teatroamolla.it/wp-content/uploads/2017/09/Set-1.jpg
ORGANIZER;CN="Teatro a Molla":MAILTO:info@teatroamolla.it
END:VEVENT
END:VCALENDAR