BEGIN:VCALENDAR
VERSION:2.0
PRODID:-//Teatro a Molla - ECPv6.15.20//NONSGML v1.0//EN
CALSCALE:GREGORIAN
METHOD:PUBLISH
X-WR-CALNAME:Teatro a Molla
X-ORIGINAL-URL:https://www.teatroamolla.it
X-WR-CALDESC:Eventi per Teatro a Molla
REFRESH-INTERVAL;VALUE=DURATION:PT1H
X-Robots-Tag:noindex
X-PUBLISHED-TTL:PT1H
BEGIN:VTIMEZONE
TZID:UTC
BEGIN:STANDARD
TZOFFSETFROM:+0000
TZOFFSETTO:+0000
TZNAME:UTC
DTSTART:20210101T000000
END:STANDARD
END:VTIMEZONE
BEGIN:VEVENT
DTSTART;TZID=UTC:20220930T213000
DTEND;TZID=UTC:20220930T230000
DTSTAMP:20260423T005343
CREATED:20161215T145349Z
LAST-MODIFIED:20220930T002207Z
UID:8130-1664573400-1664578800@www.teatroamolla.it
SUMMARY:Director's Cut (Bologna)
DESCRIPTION:con Antonio Vulpio\, Antonio Contartese\, Olli Rasini\, Daniele Mazzacurati\, Silvia Salucci \nMusiche dal vivo: Eleonora Beddini \n“Director’s cut” mette in luce una figura che di norma opera nell’ombra: il regista.\nGli attori si alterneranno alla regia delle loro storie.\nI compagni\, il musicista e il regista luci saranno a completa disposizione del direttore di turno e faranno di tutto per seguire le indicazioni sue e\, naturalmente\, quelle del pubblico.\nSaranno infatti gli spettatori a dare ai registi i suggerimenti cardine sui quali imbastire le scene. “Director’s cut” è un format creativo\, dalle infinite possibilità e all’insegna della varietà di stili e atmosfere.\nL’ennesima occasione per vivere la magia\, la comicità e la poesia del Teatro d’improvvisazione\, stavolta da una prospettiva leggermente diversa. \nPRENOTAZIONI CHIUSE DALLE 24.00 DEL 29 SETTEMBRE. BIGLIETTI DISPONIBILI PRESSO LA CASSA DEL TEATRO A PARTIRE DALLE ORE 20.00 \n×Prenotazione Biglietti\n\n\n  \n\n\n\n\n\n Il tuo nome (richiesto)\n \n \n Il tuo cognome (richiesto)\n \n \n Il tuo numero di telefono (richiesto)\n \n \n La tua email (richiesto)\n \n \n N° biglietti interi\n \n \n N° biglietti ridotti\n \n \n Motivazioni per la riduzione\n \n \nRiduzioni per over 65\, studenti\, Associati Teatro a Molla-APS\, Associati CambiScena\n \n N° biglietti omaggio\n \n \n Motivazioni per l'omaggio\n \n \nOmaggi invalidi (accompagnatore ridotto)\, bambini in età pre-scolare.\n \nCome hai saputo di noi? (richiesto)\n \n—Seleziona un'opzione—Sei nostro/a associato/aPassaparolaGoogleFacebookInstagramNewsletter\n \nHo compreso e accetto le condizioni sul trattamento dei miei dati sotto riportate.Teatro a Molla-APS tratterà i Tuoi dati personali nel rispetto del Regolamento UE 2016/679\, esclusivamente per la gestione della tua richiesta tramite il sito www.teatroamolla.it\, e in particolare per:- inviarti le informazioni inerenti l'evento/i per cui hai richiesto la prenotazione o l'iscrizione- stilare le liste di partecipanti all'evento/iI trattamenti saranno svolti e i dati conservati da incaricati autorizzati\, in forma cartacea e informatica.I dati non saranno comunicati a terzi né saranno diffusi.Al termine dell'evento\, i tuoi dati saranno conservati in forma informatica esclusivamente per scopo di archivio e in nessun altro modo utilizzati senza Tuo espresso consenso.Nella qualità di interessato\, Ti sono garantiti tutti i diritti specificati all’art. 15 GDPR\, tra cui il diritto all’accesso\, rettifica\, cancellazione\, limitazione e opposizione al trattamento dei dati\, di revocare il consenso (ove prestato) al trattamento (senza pregiudizio per la liceità del trattamento basata sul consenso acquisito prima della revoca)\, di proporre reclamo al Garante per la Protezione dei dati personali. L’esercizio dei diritti può essere esercitato mediante comunicazione scritta da inviare all'indirizzo e-mail info@teatroamolla.it o mediante lettera raccomandata a/r presso la sede dell’Associazione.Titolare del trattamento è Teatro a Molla-APS con sede a Bologna\, in via del Milliario 40. mail: info@teatroamolla.it\, tel: 345 2104484\n \n\n ×\n\n\n\nChiudi
URL:https://www.teatroamolla.it/event/directors-cut-bologna/
LOCATION:Teatro Lambrakis\, Piazza G. Lambrakis\, Bologna\, 40139
CATEGORIES:Director's cut,Eventi,Spettacoli
ORGANIZER;CN="Teatro a Molla":MAILTO:info@teatroamolla.it
END:VEVENT
END:VCALENDAR