BEGIN:VCALENDAR
VERSION:2.0
PRODID:-//Teatro a Molla - ECPv6.15.20//NONSGML v1.0//EN
CALSCALE:GREGORIAN
METHOD:PUBLISH
X-ORIGINAL-URL:https://www.teatroamolla.it
X-WR-CALDESC:Eventi per Teatro a Molla
REFRESH-INTERVAL;VALUE=DURATION:PT1H
X-Robots-Tag:noindex
X-PUBLISHED-TTL:PT1H
BEGIN:VTIMEZONE
TZID:Europe/Rome
BEGIN:DAYLIGHT
TZOFFSETFROM:+0100
TZOFFSETTO:+0200
TZNAME:CEST
DTSTART:20240331T010000
END:DAYLIGHT
BEGIN:STANDARD
TZOFFSETFROM:+0200
TZOFFSETTO:+0100
TZNAME:CET
DTSTART:20241027T010000
END:STANDARD
BEGIN:DAYLIGHT
TZOFFSETFROM:+0100
TZOFFSETTO:+0200
TZNAME:CEST
DTSTART:20250330T010000
END:DAYLIGHT
BEGIN:STANDARD
TZOFFSETFROM:+0200
TZOFFSETTO:+0100
TZNAME:CET
DTSTART:20251026T010000
END:STANDARD
BEGIN:DAYLIGHT
TZOFFSETFROM:+0100
TZOFFSETTO:+0200
TZNAME:CEST
DTSTART:20260329T010000
END:DAYLIGHT
BEGIN:STANDARD
TZOFFSETFROM:+0200
TZOFFSETTO:+0100
TZNAME:CET
DTSTART:20261025T010000
END:STANDARD
END:VTIMEZONE
BEGIN:VEVENT
DTSTART;VALUE=DATE:20250616
DTEND;VALUE=DATE:20250719
DTSTAMP:20260422T122532
CREATED:20180529T110421Z
LAST-MODIFIED:20250623T104441Z
UID:18148-1750032000-1752883199@www.teatroamolla.it
SUMMARY:Sessione estiva
DESCRIPTION:Decidi tu quante e quali lezioni frequentare! \n— \nDal 16 giugno al 18 luglio\, tutte le sere (eccetto venerdì 4 luglio) dal lunedì al venerdì\, dalle 20:00 alle 22:30 presso la nostra sede di via del Milliario 40. \nHai il pomeriggio libero? Allora puoi scegliere una o più delle 4 lezioni preserali (3\, 9\, 15 e 17 luglio). \nLe classi saranno composte da allievi con diversi livelli di esperienza\, dai principianti agli esperti.\nLe lezioni saranno calibrate tenendo conto del livello di esperienza dei partecipanti.\nPer l’occasione\, i docenti di Teatro a Molla si turneranno alla guida delle lezioni. \nClicca sul pulsante per vedere il calendario con i docenti di ciascuna lezione e iscriverti. Puoi frequentare tutto il percorso o le singole lezioni che preferisci. \n— \nCOSTI: € 24\,00 a lezione (+ € 10\,00 per l’eventuale tesseramento\, se si frequenta un numero di lezioni inferiore a 3. Da 3 lezioni in su\, tesseramento compreso nel prezzo). Prezzo massimo (da 8 lezioni in su) € 180\,00  \nLa scadenza per il saldo delle lezioni prenotate è fissata per le 18.00 di mercoledì 11 giugno. Per le richieste pervenute oltre la scadenza\, sarà richiesto un saldo a brevissimo termine. Oltre la data di scadenza\, le lezioni non saranno rimborsabili\, ma sarà possibile richiedere cambi di data\, salvo indisponibilità di posti. \nIscriviti×Sessione estiva\n\n\n  \n\n\n\n\n\n Il tuo nome (richiesto)\n \n \n Il tuo cognome (richiesto)\n \n \n La tua email (richiesto)\n \n \n Il tuo numero di telefono (richiesto)\n \n \nA quali lezioni vuoi iscriverti? (richiesto)\n \n16/6: Elisa Zonarelli17/6: Olli Rasini (Lista d'attesa)18/6: Antonio Contartese (Lista d'attesa)19/6: Olli Rasini (Lista d'attesa)20/6: Antonio Vulpio (Lista d'attesa)23/6: Antonio Vulpio (Lista d'attesa)24/6: Bernardo Capriz25/6: Antonio Contartese (Lista d'attesa)26/6: Claudia Cassano (Lista d'attesa)27/6: Antonio Contartese (Lista d'attesa)30/6: Olli Rasini (Lista d'attesa)1/7: Antonio Vulpio (Lista d'attesa)2/7: Silvia Salucci (Lista d'attesa)3/7: Antonio Vulpio - preserale3/7: Antonio Vulpio - serale (Lista d'attesa)7/7: Daniele Mazzacurati (Lista d'attesa)8/7: Chiara Benassi (Lista d'attesa)9/7: Daniele Mazzacurati - preserale9/7: Daniele Mazzacurati - serale (Lista d'attesa)10/7: Antonio Contartese (Lista d'attesa)11/7: Bernardo Capriz14/7: Silvia Salucci (Lista d'attesa)15/7: Antonio Contartese - preserale15/7: Antonio Contartese - serale (Lista d'attesa)16/7: Elisa Zonarelli (Lista d'attesa)17/7: Antonio Vulpio - preserale17/7: Antonio Vulpio - serale (Lista d'attesa)18/7: Antonio Contartese (Lista d'attesa)\n \nQual è il tuo livello di esperienza di improvvisazione? (richiesto)\n \nPrincipiantemeno di 75 ore/1 anno di corsotra le 75 ore/1 anno di corso e le 150 ore/2 anni di corsotra le 150 ore/2 anni di corso e le 225 ore/3 anni di corsopiù di 225 ore/3 anni di corso\n \n Con quale/i scuola/e ti sei formato/a (se diversa da Teatro a Molla)?\n \n \n Il tuo messaggio\n \n \nCome hai saputo di noi? (richiesto)\n \n—Seleziona un'opzione—Sei già nostro/a allievo/aPassaparolaGoogleFacebookInstagramNewsletter\n \nHo compreso e accetto le condizioni sul trattamento dei miei dati sotto riportate.Teatro a Molla-APS tratterà i Tuoi dati personali nel rispetto del Regolamento UE 2016/679\, esclusivamente per la gestione della tua richiesta tramite il sito www.teatroamolla.it\, e in particolare per:- inviarti le informazioni inerenti l'evento/i per cui hai richiesto la prenotazione o l'iscrizione- stilare le liste di partecipanti all'evento/iI trattamenti saranno svolti e i dati conservati da incaricati autorizzati\, in forma cartacea e informatica.I dati non saranno comunicati a terzi né saranno diffusi.Al termine dell'evento\, i tuoi dati saranno conservati in forma informatica esclusivamente per scopo di archivio e in nessun altro modo utilizzati senza Tuo espresso consenso.Nella qualità di interessato\, Ti sono garantiti tutti i diritti specificati all’art. 15 GDPR\, tra cui il diritto all’accesso\, rettifica\, cancellazione\, limitazione e opposizione al trattamento dei dati\, di revocare il consenso (ove prestato) al trattamento (senza pregiudizio per la liceità del trattamento basata sul consenso acquisito prima della revoca)\, di proporre reclamo al Garante per la Protezione dei dati personali. L’esercizio dei diritti può essere esercitato mediante comunicazione scritta da inviare all'indirizzo e-mail info@teatroamolla.it o mediante lettera raccomandata a/r presso la sede dell’Associazione.Titolare del trattamento è Teatro a Molla-APS con sede a Bologna\, in via del Milliario 40. mail: info@teatroamolla.it\, tel: 345 2104484\n \n\n ×\n\n\n\nChiudi
URL:https://www.teatroamolla.it/event/sessione-estiva-2/
LOCATION:Teatro a Molla\, via del Milliario\, 40\, Bologna
CATEGORIES:Eventi,Formazione
ATTACH;FMTTYPE=image/webp:https://www.teatroamolla.it/wp-content/uploads/2018/05/26-Evento-Sessione-Estiva-2025.webp
ORGANIZER;CN="Teatro a Molla":MAILTO:info@teatroamolla.it
END:VEVENT
END:VCALENDAR