BEGIN:VCALENDAR
VERSION:2.0
PRODID:-//Teatro a Molla - ECPv6.15.20//NONSGML v1.0//EN
CALSCALE:GREGORIAN
METHOD:PUBLISH
X-ORIGINAL-URL:https://www.teatroamolla.it
X-WR-CALDESC:Eventi per Teatro a Molla
REFRESH-INTERVAL;VALUE=DURATION:PT1H
X-Robots-Tag:noindex
X-PUBLISHED-TTL:PT1H
BEGIN:VTIMEZONE
TZID:Europe/Rome
BEGIN:DAYLIGHT
TZOFFSETFROM:+0100
TZOFFSETTO:+0200
TZNAME:CEST
DTSTART:20240331T010000
END:DAYLIGHT
BEGIN:STANDARD
TZOFFSETFROM:+0200
TZOFFSETTO:+0100
TZNAME:CET
DTSTART:20241027T010000
END:STANDARD
BEGIN:DAYLIGHT
TZOFFSETFROM:+0100
TZOFFSETTO:+0200
TZNAME:CEST
DTSTART:20250330T010000
END:DAYLIGHT
BEGIN:STANDARD
TZOFFSETFROM:+0200
TZOFFSETTO:+0100
TZNAME:CET
DTSTART:20251026T010000
END:STANDARD
BEGIN:DAYLIGHT
TZOFFSETFROM:+0100
TZOFFSETTO:+0200
TZNAME:CEST
DTSTART:20260329T010000
END:DAYLIGHT
BEGIN:STANDARD
TZOFFSETFROM:+0200
TZOFFSETTO:+0100
TZNAME:CET
DTSTART:20261025T010000
END:STANDARD
END:VTIMEZONE
BEGIN:VEVENT
DTSTART;VALUE=DATE:20250607
DTEND;VALUE=DATE:20250609
DTSTAMP:20260422T122455
CREATED:20211129T114241Z
LAST-MODIFIED:20250522T091550Z
UID:25709-1749254400-1749427199@www.teatroamolla.it
SUMMARY:Spring Party Blister 2025 - Pillole di improvvisazione (Bologna)
DESCRIPTION:PILLOLE DI IMPROVVISAZIONE – SPRING PARTY 2025 \nIn questa edizione dello Spring Party\, Teatro a Molla vi offre ben 4 pillole di improvvisazione! Tutti i laboratori si svolgeranno nella sede dell’Associazione Ca’Bura\, all’interno del parco (sala climatizzata). \nSABATO 7 GIUGNO: \n\nOre 10.00/13.00\n\nPILLOLA DI IMPROVVISAZIONE – PRINCIPIO ATTIVO: DOVE SONO? (IL SOGGETTO E’ SOTTOINTESO)\, Con Antonio Contartese \nDove sono io\, dove sono gli altri. L’esperienza\, il mestiere\, la formazione che abbiamo ricevuto\, ci portano a posizionarci nel punto “giusto” e\, in seguito\, a spostarci nello spazio quando e quanto ci sembra opportuno\, il tutto in modo automatico. \nNon abbiamo (più) bisogno di pensare al bilanciamento della scena\, a non dare le spalle al pubblico\, a valutare la posizione degli altri rispetto alla nostra\, a creare spazio fisico per ogni nuovo ingresso. \nMa gli automatismi\, se da un lato ci aiutano\, dall’altro rischiano di farci perdere delle occasioni. Forse\, con un briciolo di consapevolezza in più\, potremmo fare scelte meno conservative e quindi più probabilmente ispiranti per noi e per chi sta improvvisando con noi. \n\nOre 14.30/17.30\n\nPILLOLA DI IMPROVVISAZIONE – PRINCIPIO ATTIVO: STARE SCOMODI IN SCENA\, con Antonio Vulpio (N.B. Posti esauriti\, aperta lista d’attesa)  \nNell’impro siamo liberi di dire e fare pressoché ogni cosa ci venga in mente. Liberi dalla presenza di un regista\, un copione\, una storia tendiamo a fare la prima cosa che ci salta in mente. Di solito la meno faticosa. Quella che meglio ci aiuta ad aggirare i nostri limiti. Ma i confini ci danno forma e significato. Perché non abbracciarli\, scegliendo volontariamente la strada meno facile\, meno scontata? Proviamo insieme a metterci scomodi e vediamo cosa accade \n\n\n\nDOMENICA 8 GIUGNO:  \n\nORE 10.00/13.00\n\n\nPILLOLA DI IMPROVVISAZIONE – PRINCIPIO ATTIVO: LE 7 ETA’\, con Olivia Rasini \n“Tutto il mondo è un palcoscenico\, e gli uomini e le donne sono soltanto attori. Hanno le loro uscite come le loro entrate\, e nella vita ognuno recita molte parti. I suoi atti sono sette età.”  \nA volte ci risulta difficile interpretare personaggi diversi da noi\, soprattutto in età. In questa pillola sperimenteremo come interpretare personaggi di età molto diversa dalla nostra\, a partire dall’osservazione di persone vere che troveremo nel parco(scenico) e passando da aggiustamenti della postura\, del tono della voce e del modo di interagire con gli altri. \n\nOre 14.30/17.30\n\nPILLOLA DI IMPROVVISAZIONE – PRINCIPIO ATTIVO: IL PUBBLICO\, con Daniele Mazzacurati (N.B. Posti esauriti\, aperta lista d’attesa)  \nSe è vero che il teatro non può esistere senza il pubblico\, figuriamoci uno spettacolo di improvvisazione in cui il pubblico è parte fondamentale del processo creativo degli attori.\nIn scena sappiamo prenderci cura dei compagni e delle loro proposte\, ma poniamo la stessa attenzione nell’utilizzare le informazioni che gli spettatori ci offrono?Spesso ci limitiamo a chiedere un input a garanzia che le storie siano effettivamente improvvisate\, ma a volte ci addentriamo ad intervistare una persona\, se non a coinvolgerla sul palco insieme a noi.Chiediamo esperienze personali\, aneddoti\, sogni\, paure\, disavventure\, desideri.\nCon quale atteggiamento ci relazioniamo con il pubblico? Riusciamo a renderlo protagonista e a sfruttare le sue parole come un regalo?Riusciamo veramente ad onorare queste esperienze o presi dalla nostra scena ci dimentichiamo presto di lui?\nIn questa Pillola cercheremo di simulare a turno il ruolo di spettatori\, per capire come applicare la filosofia del teatro di improvvisazione anche quando rompiamo la quarta parete\, ricordandoci che il pubblico è un prezioso alleato per portarci nell’inaspettato.\n\nREQUISITI DI ACCESSO \nI corsi sono rivolti a chiunque abbia un minimo di 75 ore di formazione sul teatro d’improvvisazione. \nCOSTI \nPILLOLA SINGOLA: € 40\,00 (più eventuale tessera Teatro a Molla € 10\,00)\nBLISTER 2 PILLOLE: € 70\,00 (più eventuale tessera Teatro a Molla € 10\,00)\nBLISTER 3 PILLOLE: € 105\,00 (più eventuale tessera Teatro a Molla € 10\,00)\nBLISTER 4 PILLOLE: € 120\,00 (più eventuale tessera Teatro a Molla € 10\,00) \n\nSpring Party è anche Theatresports™. Sabato 8 giugno\, fai serata con noi nella splendida cornice del Parco dei Giardini Ca’ Bura. \n×Iscrizione corso\n\n\n  \n\n\n\n\n\n Il tuo nome (richiesto)\n \n \n Il tuo cognome (richiesto)\n \n \n La tua email (richiesto)\n \n \n Il tuo numero di telefono (richiesto)\n \n \nA quali pillole vuoi iscriverti? (richiesto)\n \nP.A. Dove sono?P.A. Stare scomodi in scena (Lista d'attesa)P.A. Le 7 etàP.A. Il pubblico (Lista d'attesa)\n \nIl tuo livello di esperienza (richiesto)\n \n—Seleziona un'opzione—principiantePiù di 75 ore/1 annualità di corsoPiù di 150 ore/2 annualità di corsoPiù di 225 ore/3 annualità di corso\n \n In quale/i scuola/e hai maturato la tua esperienza? Se sei principiante\, scrivi "nessuna" (richiesto)\n \n \n Il tuo messaggio\n \n \nCome hai saputo di noi? (richiesto)\n \n—Seleziona un'opzione—Sei già nostro/a allievo/aPassaparolaGoogleFacebookInstagramNewsletter\n \nHo compreso e accetto le condizioni sul trattamento dei miei dati sotto riportate.Teatro a Molla-APS tratterà i Tuoi dati personali nel rispetto del Regolamento UE 2016/679\, esclusivamente per la gestione della tua richiesta tramite il sito www.teatroamolla.it\, e in particolare per:- inviarti le informazioni inerenti l'evento/i per cui hai richiesto la prenotazione o l'iscrizione- stilare le liste di partecipanti all'evento/iI trattamenti saranno svolti e i dati conservati da incaricati autorizzati\, in forma cartacea e informatica.I dati non saranno comunicati a terzi né saranno diffusi.Al termine dell'evento\, i tuoi dati saranno conservati in forma informatica esclusivamente per scopo di archivio e in nessun altro modo utilizzati senza Tuo espresso consenso.Nella qualità di interessato\, Ti sono garantiti tutti i diritti specificati all’art. 15 GDPR\, tra cui il diritto all’accesso\, rettifica\, cancellazione\, limitazione e opposizione al trattamento dei dati\, di revocare il consenso (ove prestato) al trattamento (senza pregiudizio per la liceità del trattamento basata sul consenso acquisito prima della revoca)\, di proporre reclamo al Garante per la Protezione dei dati personali. L’esercizio dei diritti può essere esercitato mediante comunicazione scritta da inviare all'indirizzo e-mail info@teatroamolla.it o mediante lettera raccomandata a/r presso la sede dell’Associazione.Titolare del trattamento è Teatro a Molla-APS con sede a Bologna\, in via del Milliario 40. mail: info@teatroamolla.it\, tel: 345 2104484\n \n\n ×\n\n\n\nChiudiIscriviti a una o più pillole
URL:https://www.teatroamolla.it/event/spring-party-blister/
LOCATION:Parco dei Giardini\, via Arcoveggio 59/8\, Bologna
CATEGORIES:Eventi,Formazione
ATTACH;FMTTYPE=image/png:https://www.teatroamolla.it/wp-content/uploads/2021/11/Spring-Party-Blister-Event-Cover.png
ORGANIZER;CN="Teatro a Molla":MAILTO:info@teatroamolla.it
END:VEVENT
END:VCALENDAR